BEGIN:VCALENDAR
VERSION:2.0
PRODID:-//Down Syndrome International Swimming Organisation - ECPv6.15.17.1//NONSGML v1.0//EN
CALSCALE:GREGORIAN
METHOD:PUBLISH
X-ORIGINAL-URL:https://www.dsiso.org
X-WR-CALDESC:Events for Down Syndrome International Swimming Organisation
REFRESH-INTERVAL;VALUE=DURATION:PT1H
X-Robots-Tag:noindex
X-PUBLISHED-TTL:PT1H
BEGIN:VTIMEZONE
TZID:Asia/Krasnoyarsk
BEGIN:STANDARD
TZOFFSETFROM:+0700
TZOFFSETTO:+0700
TZNAME:+07
DTSTART:20230101T000000
END:STANDARD
END:VTIMEZONE
BEGIN:VTIMEZONE
TZID:Europe/Helsinki
BEGIN:DAYLIGHT
TZOFFSETFROM:+0200
TZOFFSETTO:+0300
TZNAME:EEST
DTSTART:20230326T010000
END:DAYLIGHT
BEGIN:STANDARD
TZOFFSETFROM:+0300
TZOFFSETTO:+0200
TZNAME:EET
DTSTART:20231029T010000
END:STANDARD
BEGIN:DAYLIGHT
TZOFFSETFROM:+0200
TZOFFSETTO:+0300
TZNAME:EEST
DTSTART:20240331T010000
END:DAYLIGHT
BEGIN:STANDARD
TZOFFSETFROM:+0300
TZOFFSETTO:+0200
TZNAME:EET
DTSTART:20241027T010000
END:STANDARD
BEGIN:DAYLIGHT
TZOFFSETFROM:+0200
TZOFFSETTO:+0300
TZNAME:EEST
DTSTART:20250330T010000
END:DAYLIGHT
BEGIN:STANDARD
TZOFFSETFROM:+0300
TZOFFSETTO:+0200
TZNAME:EET
DTSTART:20251026T010000
END:STANDARD
END:VTIMEZONE
BEGIN:VEVENT
DTSTART;VALUE=DATE:20241107
DTEND;VALUE=DATE:20241111
DTSTAMP:20260423T070649
CREATED:20240613T122107Z
LAST-MODIFIED:20240812T192301Z
UID:4664-1730937600-1731283199@www.dsiso.org
SUMMARY:USADSS/AWL Open National Championship
DESCRIPTION:REGISTRATION NOW OPEN: \nRegistration Information   \n\nUSA Down Syndrome Swimming and Athletes Without Limits (AWL) will be hosting an Open National Championship in Orlando\, Florida from 7-10th November 2024.   This is an exciting opportunity for swimmers from around the world to compete.    \nFollow  USADSS on Facebook and Instagram @USADownSyndromeSwimming.   Website:  www.usadss.org . \nPRESS RELEASE:  \n  https://www.usadownsyndromeswimming.org/june-2024-newsletter-public  \n 
URL:https://www.dsiso.org/event/usadss-awl-open-national-championship/
LOCATION:Rosen Aquatic Centre\, 8422 International Dr.\, Orlando\, FL 32819
ATTACH;FMTTYPE=image/png:https://www.dsiso.org/wp-content/uploads/2024/06/usadss_logobadge-03.png
END:VEVENT
BEGIN:VEVENT
DTSTART;VALUE=DATE:20241116
DTEND;VALUE=DATE:20241118
DTSTAMP:20260423T070649
CREATED:20240912T065403Z
LAST-MODIFIED:20240915T105811Z
UID:4704-1731715200-1731887999@www.dsiso.org
SUMMARY:3rd British Down Syndrome Swimming Championships
DESCRIPTION:3rd British Down Syndrome Swimming Championships is to take place on 16th and 17th November 2024 at K2 Leisure Centre\, Crawley \nOn behalf of Down Syndrome Swimming Great Britain (DSS-GB)\, we are delighted to announce that entries will open on Monday 9th September to take part in the 3rd British Down Syndrome Swimming Championships. \nThis event is open to swimmers with Down syndrome\, and swimmers of all abilities are encouraged to enter.  Novice to elite\, 25m to 1500m.  All strokes and distances.  Age 10 and above. \nYou can gain access to all information relevant to the Championships here.   Please note: you will have to re-register your swimmer as we are using an alternative event system this year.  Last year’s details will not allow access. \nMerchandise can be purchased for the event using the link and password below.  Cut-off date for orders is 30th October 2024.                 https://bdsschampionships.printmykit.co.uk/     Password: BDSSch4mp5 \nPlease remember\, all swimmers will need to be supported poolside – poolside passes can be applied for via the online entry system. \nThese Championships would not be possible without the incredible support and sponsorship of Powerday Foundation and Keltbray and a number of other generous sponsors. \nIn addition to introducing novice swimmers to a competitive environment\, this event also provides an opportunity for us to identify up and coming new talent to join our elite swimmers representing their country at international competitions. \nPlease find a copy of the digital poster for the Championships here if you would like to share. \nIf this is your first time entering the British Championships and/or you have any questions\, please do not hesitate to contact us on britishdsswimmingchamps@gmail.com \nLooking forward to seeing you at the Champs. \nRegards\nBritish Down Syndrome Swimming Championships Organising Committee
URL:https://www.dsiso.org/event/3rd-british-down-syndrome-swimming-championships/
LOCATION:K2 Leisure Centre\, Pease Pottage Hill\, Crawley. RH11 9BQ\, RH11 9BQ\, United Kingdom
ATTACH;FMTTYPE=image/jpeg:https://www.dsiso.org/wp-content/uploads/2024/09/DSS-GB-Logo-orginal.jpg
END:VEVENT
END:VCALENDAR