BEGIN:VCALENDAR
VERSION:2.0
PRODID:-//Down Syndrome International Swimming Organisation - ECPv6.15.17.1//NONSGML v1.0//EN
CALSCALE:GREGORIAN
METHOD:PUBLISH
X-ORIGINAL-URL:https://www.dsiso.org
X-WR-CALDESC:Events for Down Syndrome International Swimming Organisation
REFRESH-INTERVAL;VALUE=DURATION:PT1H
X-Robots-Tag:noindex
X-PUBLISHED-TTL:PT1H
BEGIN:VTIMEZONE
TZID:Europe/Helsinki
BEGIN:DAYLIGHT
TZOFFSETFROM:+0200
TZOFFSETTO:+0300
TZNAME:EEST
DTSTART:20240331T010000
END:DAYLIGHT
BEGIN:STANDARD
TZOFFSETFROM:+0300
TZOFFSETTO:+0200
TZNAME:EET
DTSTART:20241027T010000
END:STANDARD
BEGIN:DAYLIGHT
TZOFFSETFROM:+0200
TZOFFSETTO:+0300
TZNAME:EEST
DTSTART:20250330T010000
END:DAYLIGHT
BEGIN:STANDARD
TZOFFSETFROM:+0300
TZOFFSETTO:+0200
TZNAME:EET
DTSTART:20251026T010000
END:STANDARD
BEGIN:DAYLIGHT
TZOFFSETFROM:+0200
TZOFFSETTO:+0300
TZNAME:EEST
DTSTART:20260329T010000
END:DAYLIGHT
BEGIN:STANDARD
TZOFFSETFROM:+0300
TZOFFSETTO:+0200
TZNAME:EET
DTSTART:20261025T010000
END:STANDARD
END:VTIMEZONE
BEGIN:VEVENT
DTSTART;VALUE=DATE:20251025
DTEND;VALUE=DATE:20251104
DTSTAMP:20260423T103336
CREATED:20250121T104035Z
LAST-MODIFIED:20251106T121718Z
UID:4751-1761350400-1762214399@www.dsiso.org
SUMMARY:8th European Down Syndrome Swimming Championships
DESCRIPTION:8th Open Down Syndrome Swimming Championships – Albufeira\, Portugal \nThe 8th Open Down Syndrome Swimming Championships took place in Albufeira\, Portugal\, with 17 countries and 103 swimmers participating. Hosted by the Portuguese Swimming Federation (FPN)\, the competition was conducted professionally throughout and fully in accordance with World Aquatic rules. \nRecord-Breaking Performances:\nA total of 13 records were broken in the Mosaic group: \n\nJagoda Litner (Poland): 8 records\nEllen Stephenson (Great Britain): 4 records\nAlexandra Edwards (Great Britain): 1 record\n\nIn the T21 group\, record-breaking performances included: \n\nVincente Pereira (Portugal): 2 records\nCamino Martinez (Spain): 2 records\nAmalia Freeland (Great Britain): 2 records\n\nRelay Highlights: \n\nPortugal men broke 3 relay records: 4×100 Freestyle\, 4×100 Medley\, and 4×50 Mixed Medley.\nGreat Britain women set 3 world records: 4×50 Freestyle\, 4×100 Freestyle\, and 4×50 Medley.\n\nGreat Britain  was the winning team\, with Portugal   second and Poland  third.   Congratulations to all the countries.   \nThe championships concluded with a highly competitive “Coaches/Officials/Managers” relay\, generating excitement and enjoyment for everyone present. \nTOP TEN SWIMMERS \nRankings –  T21 – Male\n \n\n\n\n1\nPEREIRA\, Vicente Barros\n\nPortugal\n\n\n2\nEVENS\, Mark\n\nGBR\n\n\n3\nSOKALSKI\, Bartosz\n\nPOLAND\n\n\n4\nLACEY\, Zachary\n\nGBR\n\n\n5\nMATOS\, Diogo Alexandre\n\nPortugal\n\n\n6\nRODRIGUEZ\, PARDO\, Pablo\n\nSPAIN\n\n\n7\nENGLISH\, Robbie\n\nIRELAND\n\n\n8\nALMEIDA\, André Reis\n\nPortugal\n\n\n9\nHOLMES\, Mark\n\nGBR\n\n\n10\nMONTES\, Francisco Pessanha\n\nPORTUGAL\n\n\n\nRankings –  T21 – Female  \n\n\n\n1\nFREELAND\, Amalia\n\nGBR\n\n\n2\nMARTINEZ DE LA RIVA\, Camino\n\nSpain\n\n\n3\nHATFIELD\, Catlin\n\nGBR\n\n\n4\nGASPAR\, Maltilde\n\nPORTUGAL\n\n\n5\nRATTUR\, Keira\n\nESTONIA\n\n\n6\nTORRES\, Diana Ines\n\nPortugal\n\n\n7\nSCHERDER\, Maggie\n\nUSA\n\n\n8\nJONES\, Scarlett\n\nGBR\n\n\n9\nSULLIVAN\, Holly\n\nGBR\n\n\n10\nREIS\, Filipa\n\nPORTUGAL\n\n\n\nRankings –  Mosaic- Female  \n\n\n\n1\nLITNER\, Jagoda\n\nPOLAND\n\n\n2\nSTEPHENSON\, Ellen\n\nGBR\n\n\n3\nEDWARDS\, Alexandra\n\nGBR\n\n\n4\nFONSECA\, Sofia Luz\n\nPORTUGAL\n\n\n\nRankings –  Mosaic- Male  \nHarvey Stonebank (GBR) and Yo Fujimoto (JAPAN) tied for first place. \n\n RESULTS \n \nThe 8th Open European Down Syndrome Swimming Championships took place in Albufeira\, Portugal from 25th October to 2nd November 2025. This will be a Short Course Event. \n\nSWIMMING PROGRAMME \nMINIMUM QUALIFYING STANDARDS (MQS) \nMQT CONVERSION SCM TO SCY \nTEAM GUIDE \nPRELIMINARY ENTRY FORM \nALBUFEIRA 2025 – ENTRY FORM \nEUROPEAN DSISO 2025 ENTRY FILE \nFAMILY PACKAGE \nSUMMARY OF RULES
URL:https://www.dsiso.org/event/8th-european-down-syndrome-swimming-championships/
LOCATION:Albufeira\, Algarve Portugal\, Portugal
ATTACH;FMTTYPE=image/jpeg:https://www.dsiso.org/wp-content/uploads/2025/01/logo-DSISO2025-ALBUFEIRA.jpg
END:VEVENT
END:VCALENDAR